BEGIN:VCALENDAR
VERSION:2.0
PRODID:-//SPÖ Lengau - ECPv6.15.20//NONSGML v1.0//EN
CALSCALE:GREGORIAN
METHOD:PUBLISH
X-ORIGINAL-URL:https://lengau.spooe.at
X-WR-CALDESC:Veranstaltungen für SPÖ Lengau
REFRESH-INTERVAL;VALUE=DURATION:PT1H
X-Robots-Tag:noindex
X-PUBLISHED-TTL:PT1H
BEGIN:VTIMEZONE
TZID:Europe/Vienna
BEGIN:DAYLIGHT
TZOFFSETFROM:+0100
TZOFFSETTO:+0200
TZNAME:CEST
DTSTART:20210328T010000
END:DAYLIGHT
BEGIN:STANDARD
TZOFFSETFROM:+0200
TZOFFSETTO:+0100
TZNAME:CET
DTSTART:20211031T010000
END:STANDARD
BEGIN:DAYLIGHT
TZOFFSETFROM:+0100
TZOFFSETTO:+0200
TZNAME:CEST
DTSTART:20220327T010000
END:DAYLIGHT
BEGIN:STANDARD
TZOFFSETFROM:+0200
TZOFFSETTO:+0100
TZNAME:CET
DTSTART:20221030T010000
END:STANDARD
BEGIN:DAYLIGHT
TZOFFSETFROM:+0100
TZOFFSETTO:+0200
TZNAME:CEST
DTSTART:20230326T010000
END:DAYLIGHT
BEGIN:STANDARD
TZOFFSETFROM:+0200
TZOFFSETTO:+0100
TZNAME:CET
DTSTART:20231029T010000
END:STANDARD
END:VTIMEZONE
BEGIN:VEVENT
DTSTART;TZID=Europe/Vienna:20221215T193000
DTEND;TZID=Europe/Vienna:20221215T220000
DTSTAMP:20260420T193919
CREATED:20221206T181533Z
LAST-MODIFIED:20221206T183122Z
UID:1240-1671132600-1671141600@lengau.spooe.at
SUMMARY:Gemeinderatssitzung
DESCRIPTION:Gemeinderat und alle Gemeindebürger:innen und Interessierte
URL:https://lengau.spooe.at/termin/gemeinderatssitzung/
LOCATION:Gemeindeamt Lengau\, Salzburgerstraße  9\, Friedburg \, Oberösterreich\, 5211\, Österreich
ATTACH;FMTTYPE=image/jpeg:https://lengau.spooe.at/wp-content/uploads/sites/34/2022/12/Gemeindeamt.jpg
ORGANIZER;CN="Gemeinde Lengau":MAILTO:rippl.erich@lengau.ooe.gv.at
END:VEVENT
END:VCALENDAR